BEGIN:VCALENDAR
VERSION:2.0
PRODID:-//Discover New Hartford, CT - ECPv6.15.17//NONSGML v1.0//EN
CALSCALE:GREGORIAN
METHOD:PUBLISH
X-ORIGINAL-URL:https://discovernewhartfordct.com
X-WR-CALDESC:Events for Discover New Hartford, CT
REFRESH-INTERVAL;VALUE=DURATION:PT1H
X-Robots-Tag:noindex
X-PUBLISHED-TTL:PT1H
BEGIN:VTIMEZONE
TZID:America/New_York
BEGIN:DAYLIGHT
TZOFFSETFROM:-0500
TZOFFSETTO:-0400
TZNAME:EDT
DTSTART:20240310T070000
END:DAYLIGHT
BEGIN:STANDARD
TZOFFSETFROM:-0400
TZOFFSETTO:-0500
TZNAME:EST
DTSTART:20241103T060000
END:STANDARD
BEGIN:DAYLIGHT
TZOFFSETFROM:-0500
TZOFFSETTO:-0400
TZNAME:EDT
DTSTART:20250309T070000
END:DAYLIGHT
BEGIN:STANDARD
TZOFFSETFROM:-0400
TZOFFSETTO:-0500
TZNAME:EST
DTSTART:20251102T060000
END:STANDARD
BEGIN:DAYLIGHT
TZOFFSETFROM:-0500
TZOFFSETTO:-0400
TZNAME:EDT
DTSTART:20260308T070000
END:DAYLIGHT
BEGIN:STANDARD
TZOFFSETFROM:-0400
TZOFFSETTO:-0500
TZNAME:EST
DTSTART:20261101T060000
END:STANDARD
END:VTIMEZONE
BEGIN:VEVENT
DTSTART;TZID=America/New_York:20251231T180000
DTEND;TZID=America/New_York:20251231T190000
DTSTAMP:20260419T100859
CREATED:20250108T175812Z
LAST-MODIFIED:20250716T162345Z
UID:10002537-1767204000-1767207600@discovernewhartfordct.com
SUMMARY:LAM Yoga - Wednesday Evening Vinyasa Yoga
DESCRIPTION:Event Venue: LAM Yoga (In Studio)\nAddress: 37 Greenwoods Road\, New Hartford\, CT\nDate & Time: Every Wednesday from 6:00pm to 7:00pm (check our website for potential cancellations)\nPhone: (860) 978-1657\nWebsite: https://www.lamyoga.com \nLAM Yoga – Wednesday Evening Vinyasa Yoga In Studio \nThis practice combines movement with breath to create a meditation in motion\, set to music. It’s a grounding and energizing way to end your day. \nIf you have a class pass\, enter coupon code CLASSPASS at checkout. \nNo class pass? No worries—reserve your spot for $18. \nNote: Space is limited. If you register for a class and cannot attend\, please give at least 4 hours notice or it will count toward your class pass.
URL:https://discovernewhartfordct.com/event/lam-yoga-wednesday-evening-vinyasa-yoga/2025-12-31/
LOCATION:LAM Yoga\, 37 Greenwoods Road\, Suite 12\, New Hartford\, CT\, 06057\, United States
CATEGORIES:Fitness, Dance & Yoga,Health & Wellness,Our Community,What To Do
ATTACH;FMTTYPE=image/png:https://discovernewhartfordct.com/wp-content/uploads/2025/06/new-hartford-ct-lam-yoga-wed-evening-what-to-do.png
ORGANIZER;CN="LAM Yoga":MAILTO:jen@lamyoga.com
END:VEVENT
END:VCALENDAR