BEGIN:VCALENDAR
VERSION:2.0
PRODID:-//Discover New Hartford, CT - ECPv6.15.17//NONSGML v1.0//EN
CALSCALE:GREGORIAN
METHOD:PUBLISH
X-WR-CALNAME:Discover New Hartford, CT
X-ORIGINAL-URL:https://discovernewhartfordct.com
X-WR-CALDESC:Events for Discover New Hartford, CT
REFRESH-INTERVAL;VALUE=DURATION:PT1H
X-Robots-Tag:noindex
X-PUBLISHED-TTL:PT1H
BEGIN:VTIMEZONE
TZID:America/New_York
BEGIN:DAYLIGHT
TZOFFSETFROM:-0500
TZOFFSETTO:-0400
TZNAME:EDT
DTSTART:20230312T070000
END:DAYLIGHT
BEGIN:STANDARD
TZOFFSETFROM:-0400
TZOFFSETTO:-0500
TZNAME:EST
DTSTART:20231105T060000
END:STANDARD
BEGIN:DAYLIGHT
TZOFFSETFROM:-0500
TZOFFSETTO:-0400
TZNAME:EDT
DTSTART:20240310T070000
END:DAYLIGHT
BEGIN:STANDARD
TZOFFSETFROM:-0400
TZOFFSETTO:-0500
TZNAME:EST
DTSTART:20241103T060000
END:STANDARD
BEGIN:DAYLIGHT
TZOFFSETFROM:-0500
TZOFFSETTO:-0400
TZNAME:EDT
DTSTART:20250309T070000
END:DAYLIGHT
BEGIN:STANDARD
TZOFFSETFROM:-0400
TZOFFSETTO:-0500
TZNAME:EST
DTSTART:20251102T060000
END:STANDARD
END:VTIMEZONE
BEGIN:VEVENT
DTSTART;TZID=America/New_York:20241027T100000
DTEND;TZID=America/New_York:20241027T170000
DTSTAMP:20260425T095023
CREATED:20240929T100010Z
LAST-MODIFIED:20241029T203217Z
UID:10000314-1730023200-1730048400@discovernewhartfordct.com
SUMMARY:Fall On The Farm Fun Sunday's
DESCRIPTION:Event Venue: Barden Farm\nAddress: 45 Burgoyne Heights Rd\, New Hartford\, CT 06057\nTime: Sunday’s starting Sun 9/29 through Sun 10/27 – 10:00am to 5:00pm\nContact: 860-379-8803 \nPumpkin Patch Hayrides at Barden Farm \nVisit our farm to enjoy a tractor drawn hayride to a real pumpkin patch to find the perfect one for you. Explore our pick your own gourd patch\, and visit some of our farms 4legged friends! Shop our farm stand for fresh local made items and enjoy an authentic New England farm experience.
URL:https://discovernewhartfordct.com/event/fall-on-the-farm-fun-sundays/2024-10-27/
LOCATION:Barden Farm\, 45 Burgoyne Heights Rd\, New Hartford\, CT\, 06057\, United States
CATEGORIES:Town Events,Visit Local Farms,What To Do
ATTACH;FMTTYPE=image/jpeg:https://discovernewhartfordct.com/wp-content/uploads/2024/09/new-hartford-ct-barden-farm-pumpkin-hayrides.jpg
END:VEVENT
BEGIN:VEVENT
DTSTART;TZID=America/New_York:20241026T100000
DTEND;TZID=America/New_York:20241026T170000
DTSTAMP:20260425T095023
CREATED:20240928T100019Z
LAST-MODIFIED:20241029T202817Z
UID:10000300-1729936800-1729962000@discovernewhartfordct.com
SUMMARY:Fall On The Farm Fun Saturday's
DESCRIPTION:Event Venue: Barden Farm\nAddress: 45 Burgoyne Heights Rd\, New Hartford\, CT 06057\nTime: Saturday’s starting Sat 9/28 through Sat 10/26 – 10:00am to 5:00pm\nContact: 860-379-8803 \nPumpkin Patch Hayrides at Barden Farm \nVisit our farm to enjoy a tractor drawn hayride to a real pumpkin patch to find the perfect one for you. Explore our pick your own gourd patch\, and visit some of our farms 4legged friends! Shop our farm stand for fresh local made items and enjoy an authentic New England farm experience.
URL:https://discovernewhartfordct.com/event/fall-on-the-farm-fun-saturdays/2024-10-26/
LOCATION:Barden Farm\, 45 Burgoyne Heights Rd\, New Hartford\, CT\, 06057\, United States
CATEGORIES:Town Events,Visit Local Farms,What To Do
ATTACH;FMTTYPE=image/jpeg:https://discovernewhartfordct.com/wp-content/uploads/2024/09/new-hartford-ct-barden-farm-pumpkin-hayrides.jpg
END:VEVENT
BEGIN:VEVENT
DTSTART;TZID=America/New_York:20241020T100000
DTEND;TZID=America/New_York:20241020T170000
DTSTAMP:20260425T095023
CREATED:20240929T100010Z
LAST-MODIFIED:20241029T203217Z
UID:10000313-1729418400-1729443600@discovernewhartfordct.com
SUMMARY:Fall On The Farm Fun Sunday's
DESCRIPTION:Event Venue: Barden Farm\nAddress: 45 Burgoyne Heights Rd\, New Hartford\, CT 06057\nTime: Sunday’s starting Sun 9/29 through Sun 10/27 – 10:00am to 5:00pm\nContact: 860-379-8803 \nPumpkin Patch Hayrides at Barden Farm \nVisit our farm to enjoy a tractor drawn hayride to a real pumpkin patch to find the perfect one for you. Explore our pick your own gourd patch\, and visit some of our farms 4legged friends! Shop our farm stand for fresh local made items and enjoy an authentic New England farm experience.
URL:https://discovernewhartfordct.com/event/fall-on-the-farm-fun-sundays/2024-10-20/
LOCATION:Barden Farm\, 45 Burgoyne Heights Rd\, New Hartford\, CT\, 06057\, United States
CATEGORIES:Town Events,Visit Local Farms,What To Do
ATTACH;FMTTYPE=image/jpeg:https://discovernewhartfordct.com/wp-content/uploads/2024/09/new-hartford-ct-barden-farm-pumpkin-hayrides.jpg
END:VEVENT
BEGIN:VEVENT
DTSTART;TZID=America/New_York:20241019T100000
DTEND;TZID=America/New_York:20241019T170000
DTSTAMP:20260425T095023
CREATED:20240928T100019Z
LAST-MODIFIED:20241029T202817Z
UID:10000299-1729332000-1729357200@discovernewhartfordct.com
SUMMARY:Fall On The Farm Fun Saturday's
DESCRIPTION:Event Venue: Barden Farm\nAddress: 45 Burgoyne Heights Rd\, New Hartford\, CT 06057\nTime: Saturday’s starting Sat 9/28 through Sat 10/26 – 10:00am to 5:00pm\nContact: 860-379-8803 \nPumpkin Patch Hayrides at Barden Farm \nVisit our farm to enjoy a tractor drawn hayride to a real pumpkin patch to find the perfect one for you. Explore our pick your own gourd patch\, and visit some of our farms 4legged friends! Shop our farm stand for fresh local made items and enjoy an authentic New England farm experience.
URL:https://discovernewhartfordct.com/event/fall-on-the-farm-fun-saturdays/2024-10-19/
LOCATION:Barden Farm\, 45 Burgoyne Heights Rd\, New Hartford\, CT\, 06057\, United States
CATEGORIES:Town Events,Visit Local Farms,What To Do
ATTACH;FMTTYPE=image/jpeg:https://discovernewhartfordct.com/wp-content/uploads/2024/09/new-hartford-ct-barden-farm-pumpkin-hayrides.jpg
END:VEVENT
BEGIN:VEVENT
DTSTART;TZID=America/New_York:20241013T100000
DTEND;TZID=America/New_York:20241013T170000
DTSTAMP:20260425T095023
CREATED:20240929T100010Z
LAST-MODIFIED:20241029T203217Z
UID:10000312-1728813600-1728838800@discovernewhartfordct.com
SUMMARY:Fall On The Farm Fun Sunday's
DESCRIPTION:Event Venue: Barden Farm\nAddress: 45 Burgoyne Heights Rd\, New Hartford\, CT 06057\nTime: Sunday’s starting Sun 9/29 through Sun 10/27 – 10:00am to 5:00pm\nContact: 860-379-8803 \nPumpkin Patch Hayrides at Barden Farm \nVisit our farm to enjoy a tractor drawn hayride to a real pumpkin patch to find the perfect one for you. Explore our pick your own gourd patch\, and visit some of our farms 4legged friends! Shop our farm stand for fresh local made items and enjoy an authentic New England farm experience.
URL:https://discovernewhartfordct.com/event/fall-on-the-farm-fun-sundays/2024-10-13/
LOCATION:Barden Farm\, 45 Burgoyne Heights Rd\, New Hartford\, CT\, 06057\, United States
CATEGORIES:Town Events,Visit Local Farms,What To Do
ATTACH;FMTTYPE=image/jpeg:https://discovernewhartfordct.com/wp-content/uploads/2024/09/new-hartford-ct-barden-farm-pumpkin-hayrides.jpg
END:VEVENT
BEGIN:VEVENT
DTSTART;TZID=America/New_York:20241012T100000
DTEND;TZID=America/New_York:20241012T170000
DTSTAMP:20260425T095023
CREATED:20240928T100019Z
LAST-MODIFIED:20241029T202817Z
UID:10000298-1728727200-1728752400@discovernewhartfordct.com
SUMMARY:Fall On The Farm Fun Saturday's
DESCRIPTION:Event Venue: Barden Farm\nAddress: 45 Burgoyne Heights Rd\, New Hartford\, CT 06057\nTime: Saturday’s starting Sat 9/28 through Sat 10/26 – 10:00am to 5:00pm\nContact: 860-379-8803 \nPumpkin Patch Hayrides at Barden Farm \nVisit our farm to enjoy a tractor drawn hayride to a real pumpkin patch to find the perfect one for you. Explore our pick your own gourd patch\, and visit some of our farms 4legged friends! Shop our farm stand for fresh local made items and enjoy an authentic New England farm experience.
URL:https://discovernewhartfordct.com/event/fall-on-the-farm-fun-saturdays/2024-10-12/
LOCATION:Barden Farm\, 45 Burgoyne Heights Rd\, New Hartford\, CT\, 06057\, United States
CATEGORIES:Town Events,Visit Local Farms,What To Do
ATTACH;FMTTYPE=image/jpeg:https://discovernewhartfordct.com/wp-content/uploads/2024/09/new-hartford-ct-barden-farm-pumpkin-hayrides.jpg
END:VEVENT
BEGIN:VEVENT
DTSTART;TZID=America/New_York:20241006T100000
DTEND;TZID=America/New_York:20241006T170000
DTSTAMP:20260425T095023
CREATED:20240929T100010Z
LAST-MODIFIED:20241029T203217Z
UID:10000311-1728208800-1728234000@discovernewhartfordct.com
SUMMARY:Fall On The Farm Fun Sunday's
DESCRIPTION:Event Venue: Barden Farm\nAddress: 45 Burgoyne Heights Rd\, New Hartford\, CT 06057\nTime: Sunday’s starting Sun 9/29 through Sun 10/27 – 10:00am to 5:00pm\nContact: 860-379-8803 \nPumpkin Patch Hayrides at Barden Farm \nVisit our farm to enjoy a tractor drawn hayride to a real pumpkin patch to find the perfect one for you. Explore our pick your own gourd patch\, and visit some of our farms 4legged friends! Shop our farm stand for fresh local made items and enjoy an authentic New England farm experience.
URL:https://discovernewhartfordct.com/event/fall-on-the-farm-fun-sundays/2024-10-06/
LOCATION:Barden Farm\, 45 Burgoyne Heights Rd\, New Hartford\, CT\, 06057\, United States
CATEGORIES:Town Events,Visit Local Farms,What To Do
ATTACH;FMTTYPE=image/jpeg:https://discovernewhartfordct.com/wp-content/uploads/2024/09/new-hartford-ct-barden-farm-pumpkin-hayrides.jpg
END:VEVENT
BEGIN:VEVENT
DTSTART;TZID=America/New_York:20241005T100000
DTEND;TZID=America/New_York:20241005T170000
DTSTAMP:20260425T095023
CREATED:20240928T100019Z
LAST-MODIFIED:20241029T202817Z
UID:10000297-1728122400-1728147600@discovernewhartfordct.com
SUMMARY:Fall On The Farm Fun Saturday's
DESCRIPTION:Event Venue: Barden Farm\nAddress: 45 Burgoyne Heights Rd\, New Hartford\, CT 06057\nTime: Saturday’s starting Sat 9/28 through Sat 10/26 – 10:00am to 5:00pm\nContact: 860-379-8803 \nPumpkin Patch Hayrides at Barden Farm \nVisit our farm to enjoy a tractor drawn hayride to a real pumpkin patch to find the perfect one for you. Explore our pick your own gourd patch\, and visit some of our farms 4legged friends! Shop our farm stand for fresh local made items and enjoy an authentic New England farm experience.
URL:https://discovernewhartfordct.com/event/fall-on-the-farm-fun-saturdays/2024-10-05/
LOCATION:Barden Farm\, 45 Burgoyne Heights Rd\, New Hartford\, CT\, 06057\, United States
CATEGORIES:Town Events,Visit Local Farms,What To Do
ATTACH;FMTTYPE=image/jpeg:https://discovernewhartfordct.com/wp-content/uploads/2024/09/new-hartford-ct-barden-farm-pumpkin-hayrides.jpg
END:VEVENT
BEGIN:VEVENT
DTSTART;TZID=America/New_York:20240929T100000
DTEND;TZID=America/New_York:20240929T170000
DTSTAMP:20260425T095023
CREATED:20240929T100010Z
LAST-MODIFIED:20241029T203217Z
UID:10000310-1727604000-1727629200@discovernewhartfordct.com
SUMMARY:Fall On The Farm Fun Sunday's
DESCRIPTION:Event Venue: Barden Farm\nAddress: 45 Burgoyne Heights Rd\, New Hartford\, CT 06057\nTime: Sunday’s starting Sun 9/29 through Sun 10/27 – 10:00am to 5:00pm\nContact: 860-379-8803 \nPumpkin Patch Hayrides at Barden Farm \nVisit our farm to enjoy a tractor drawn hayride to a real pumpkin patch to find the perfect one for you. Explore our pick your own gourd patch\, and visit some of our farms 4legged friends! Shop our farm stand for fresh local made items and enjoy an authentic New England farm experience.
URL:https://discovernewhartfordct.com/event/fall-on-the-farm-fun-sundays/2024-09-29/
LOCATION:Barden Farm\, 45 Burgoyne Heights Rd\, New Hartford\, CT\, 06057\, United States
CATEGORIES:Town Events,Visit Local Farms,What To Do
ATTACH;FMTTYPE=image/jpeg:https://discovernewhartfordct.com/wp-content/uploads/2024/09/new-hartford-ct-barden-farm-pumpkin-hayrides.jpg
END:VEVENT
BEGIN:VEVENT
DTSTART;TZID=America/New_York:20240928T100000
DTEND;TZID=America/New_York:20240928T170000
DTSTAMP:20260425T095023
CREATED:20240928T100019Z
LAST-MODIFIED:20241029T202817Z
UID:10000068-1727517600-1727542800@discovernewhartfordct.com
SUMMARY:Fall On The Farm Fun Saturday's
DESCRIPTION:Event Venue: Barden Farm\nAddress: 45 Burgoyne Heights Rd\, New Hartford\, CT 06057\nTime: Saturday’s starting Sat 9/28 through Sat 10/26 – 10:00am to 5:00pm\nContact: 860-379-8803 \nPumpkin Patch Hayrides at Barden Farm \nVisit our farm to enjoy a tractor drawn hayride to a real pumpkin patch to find the perfect one for you. Explore our pick your own gourd patch\, and visit some of our farms 4legged friends! Shop our farm stand for fresh local made items and enjoy an authentic New England farm experience.
URL:https://discovernewhartfordct.com/event/fall-on-the-farm-fun-saturdays/2024-09-28/
LOCATION:Barden Farm\, 45 Burgoyne Heights Rd\, New Hartford\, CT\, 06057\, United States
CATEGORIES:Town Events,Visit Local Farms,What To Do
ATTACH;FMTTYPE=image/jpeg:https://discovernewhartfordct.com/wp-content/uploads/2024/09/new-hartford-ct-barden-farm-pumpkin-hayrides.jpg
END:VEVENT
END:VCALENDAR